BEGIN:VCALENDAR
VERSION:2.0
PRODID:-//Georgia Museum of Art at the University of Georgia - ECPv5.4.0.1//NONSGML v1.0//EN
CALSCALE:GREGORIAN
METHOD:PUBLISH
X-WR-CALNAME:Georgia Museum of Art at the University of Georgia
X-ORIGINAL-URL:http://gmoa-dev2.adsmithdev.com
X-WR-CALDESC:Events for Georgia Museum of Art at the University of Georgia
BEGIN:VTIMEZONE
TZID:America/New_York
BEGIN:DAYLIGHT
TZOFFSETFROM:-0500
TZOFFSETTO:-0400
TZNAME:EDT
DTSTART:20210314T070000
END:DAYLIGHT
BEGIN:STANDARD
TZOFFSETFROM:-0400
TZOFFSETTO:-0500
TZNAME:EST
DTSTART:20211107T060000
END:STANDARD
END:VTIMEZONE
BEGIN:VEVENT
DTSTART;TZID=America/New_York:20210313T080000
DTEND;TZID=America/New_York:20210313T170000
DTSTAMP:20260419T080458
CREATED:20201119T144020Z
LAST-MODIFIED:20201119T144020Z
UID:15365-1615622400-1615654800@gmoa-dev2.adsmithdev.com
SUMMARY:Family Day To-Go: Look\, Paint\, Repeat
DESCRIPTION:
URL:http://gmoa-dev2.adsmithdev.com/event/family-day-to-go-look-paint-repeat/
CATEGORIES:Family Events
ATTACH;FMTTYPE=image/jpeg:http://gmoa-dev2.adsmithdev.com/wp-content/uploads/2020/11/03-13-2020_family-day_Daura_Church_GMOA.jpg
END:VEVENT
END:VCALENDAR