BEGIN:VCALENDAR
VERSION:2.0
PRODID:-//Georgia Museum of Art at the University of Georgia - ECPv5.4.0.1//NONSGML v1.0//EN
CALSCALE:GREGORIAN
METHOD:PUBLISH
X-WR-CALNAME:Georgia Museum of Art at the University of Georgia
X-ORIGINAL-URL:http://gmoa-dev2.adsmithdev.com
X-WR-CALDESC:Events for Georgia Museum of Art at the University of Georgia
BEGIN:VTIMEZONE
TZID:America/New_York
BEGIN:DAYLIGHT
TZOFFSETFROM:-0500
TZOFFSETTO:-0400
TZNAME:EDT
DTSTART:20190310T070000
END:DAYLIGHT
BEGIN:STANDARD
TZOFFSETFROM:-0400
TZOFFSETTO:-0500
TZNAME:EST
DTSTART:20191103T060000
END:STANDARD
END:VTIMEZONE
BEGIN:VEVENT
DTSTART;TZID=America/New_York:20190131T190000
DTEND;TZID=America/New_York:20190131T210000
DTSTAMP:20260421T093026
CREATED:20181120T234004Z
LAST-MODIFIED:20190128T190740Z
UID:1241-1548961200-1548968400@gmoa-dev2.adsmithdev.com
SUMMARY:“Five Artists”
DESCRIPTION:
URL:http://gmoa-dev2.adsmithdev.com/event/five-artists/
LOCATION:Georgia Museum of Art\, 90 Carlton Street\, Athens\, GA\, 30602\, United States
CATEGORIES:Films
ATTACH;FMTTYPE=image/jpeg:http://gmoa-dev2.adsmithdev.com/wp-content/uploads/2018/11/01-31-2019_five-artists.jpg
END:VEVENT
END:VCALENDAR