BEGIN:VCALENDAR
VERSION:2.0
PRODID:-//Georgia Museum of Art at the University of Georgia - ECPv5.4.0.1//NONSGML v1.0//EN
CALSCALE:GREGORIAN
METHOD:PUBLISH
X-WR-CALNAME:Georgia Museum of Art at the University of Georgia
X-ORIGINAL-URL:http://gmoa-dev2.adsmithdev.com
X-WR-CALDESC:Events for Georgia Museum of Art at the University of Georgia
BEGIN:VTIMEZONE
TZID:America/New_York
BEGIN:DAYLIGHT
TZOFFSETFROM:-0500
TZOFFSETTO:-0400
TZNAME:EDT
DTSTART:20210314T070000
END:DAYLIGHT
BEGIN:STANDARD
TZOFFSETFROM:-0400
TZOFFSETTO:-0500
TZNAME:EST
DTSTART:20211107T060000
END:STANDARD
END:VTIMEZONE
BEGIN:VEVENT
DTSTART;TZID=America/New_York:20210506T100000
DTEND;TZID=America/New_York:20210506T210000
DTSTAMP:20260425T215159
CREATED:20210209T213435Z
LAST-MODIFIED:20210209T213435Z
UID:21121-1620295200-1620334800@gmoa-dev2.adsmithdev.com
SUMMARY:Mother’s Day at the Museum: Tour for Two
DESCRIPTION:
URL:http://gmoa-dev2.adsmithdev.com/event/mothers-day-at-the-museum-tour-for-two/
CATEGORIES:Special Events
ATTACH;FMTTYPE=image/jpeg:http://gmoa-dev2.adsmithdev.com/wp-content/uploads/2021/02/05-06-2021_mothers-day_2019_0175-Hoffman.jpg
END:VEVENT
END:VCALENDAR