BEGIN:VCALENDAR
VERSION:2.0
PRODID:-//Georgia Museum of Art at the University of Georgia - ECPv5.4.0.1//NONSGML v1.0//EN
CALSCALE:GREGORIAN
METHOD:PUBLISH
X-WR-CALNAME:Georgia Museum of Art at the University of Georgia
X-ORIGINAL-URL:http://gmoa-dev2.adsmithdev.com
X-WR-CALDESC:Events for Georgia Museum of Art at the University of Georgia
BEGIN:VTIMEZONE
TZID:America/New_York
BEGIN:DAYLIGHT
TZOFFSETFROM:-0500
TZOFFSETTO:-0400
TZNAME:EDT
DTSTART:20210314T070000
END:DAYLIGHT
BEGIN:STANDARD
TZOFFSETFROM:-0400
TZOFFSETTO:-0500
TZNAME:EST
DTSTART:20211107T060000
END:STANDARD
END:VTIMEZONE
BEGIN:VEVENT
DTSTART;TZID=America/New_York:20210318T130000
DTEND;TZID=America/New_York:20210318T140000
DTSTAMP:20260419T075237
CREATED:20201119T133930Z
LAST-MODIFIED:20210310T132747Z
UID:15339-1616072400-1616076000@gmoa-dev2.adsmithdev.com
SUMMARY:Panel Discussion: Interdisciplinary Perspectives on Magic Realism
DESCRIPTION:
URL:http://gmoa-dev2.adsmithdev.com/event/panel-discussion-interdisciplinary-perspectives-on-magic-realism/
CATEGORIES:Lectures and Gallery Talks
ATTACH;FMTTYPE=image/jpeg:http://gmoa-dev2.adsmithdev.com/wp-content/uploads/2020/11/03-18-2021_panel_Koerner_tailors-dummies.jpg
END:VEVENT
END:VCALENDAR