BEGIN:VCALENDAR
VERSION:2.0
PRODID:-//Georgia Museum of Art at the University of Georgia - ECPv5.4.0.1//NONSGML v1.0//EN
CALSCALE:GREGORIAN
METHOD:PUBLISH
X-WR-CALNAME:Georgia Museum of Art at the University of Georgia
X-ORIGINAL-URL:http://gmoa-dev2.adsmithdev.com
X-WR-CALDESC:Events for Georgia Museum of Art at the University of Georgia
BEGIN:VTIMEZONE
TZID:America/New_York
BEGIN:DAYLIGHT
TZOFFSETFROM:-0500
TZOFFSETTO:-0400
TZNAME:EDT
DTSTART:20210314T070000
END:DAYLIGHT
BEGIN:STANDARD
TZOFFSETFROM:-0400
TZOFFSETTO:-0500
TZNAME:EST
DTSTART:20211107T060000
END:STANDARD
END:VTIMEZONE
BEGIN:VEVENT
DTSTART;TZID=America/New_York:20210410T140000
DTEND;TZID=America/New_York:20210410T153000
DTSTAMP:20260425T233508
CREATED:20210209T213311Z
LAST-MODIFIED:20210209T213311Z
UID:21119-1618063200-1618068600@gmoa-dev2.adsmithdev.com
SUMMARY:Slow Art Day
DESCRIPTION:
URL:http://gmoa-dev2.adsmithdev.com/event/slow-art-day-2021/
CATEGORIES:Special Events
ATTACH;FMTTYPE=image/jpeg:http://gmoa-dev2.adsmithdev.com/wp-content/uploads/2020/01/04-04-2020_slow-art-day.jpg
END:VEVENT
END:VCALENDAR