BEGIN:VCALENDAR
VERSION:2.0
PRODID:-//Georgia Museum of Art at the University of Georgia - ECPv5.4.0.1//NONSGML v1.0//EN
CALSCALE:GREGORIAN
METHOD:PUBLISH
X-WR-CALNAME:Georgia Museum of Art at the University of Georgia
X-ORIGINAL-URL:http://gmoa-dev2.adsmithdev.com
X-WR-CALDESC:Events for Georgia Museum of Art at the University of Georgia
BEGIN:VTIMEZONE
TZID:America/New_York
BEGIN:DAYLIGHT
TZOFFSETFROM:-0500
TZOFFSETTO:-0400
TZNAME:EDT
DTSTART:20210314T070000
END:DAYLIGHT
BEGIN:STANDARD
TZOFFSETFROM:-0400
TZOFFSETTO:-0500
TZNAME:EST
DTSTART:20211107T060000
END:STANDARD
END:VTIMEZONE
BEGIN:VEVENT
DTSTART;TZID=America/New_York:20210325T173000
DTEND;TZID=America/New_York:20210325T193000
DTSTAMP:20260425T200956
CREATED:20201119T145035Z
LAST-MODIFIED:20201119T145035Z
UID:15371-1616693400-1616700600@gmoa-dev2.adsmithdev.com
SUMMARY:Teen Studio via Zoom: Color Odyssey
DESCRIPTION:
URL:http://gmoa-dev2.adsmithdev.com/event/teen-studio-via-zoom-color-odyssey/
CATEGORIES:Classes/Workshops,Family Events
ATTACH;FMTTYPE=image/jpeg:http://gmoa-dev2.adsmithdev.com/wp-content/uploads/2020/11/03-25-2021_teen-studio_targets.jpg
END:VEVENT
END:VCALENDAR