BEGIN:VCALENDAR
VERSION:2.0
PRODID:-//Georgia Museum of Art at the University of Georgia - ECPv5.4.0.1//NONSGML v1.0//EN
CALSCALE:GREGORIAN
METHOD:PUBLISH
X-WR-CALNAME:Georgia Museum of Art at the University of Georgia
X-ORIGINAL-URL:http://gmoa-dev2.adsmithdev.com
X-WR-CALDESC:Events for Georgia Museum of Art at the University of Georgia
BEGIN:VTIMEZONE
TZID:America/New_York
BEGIN:DAYLIGHT
TZOFFSETFROM:-0500
TZOFFSETTO:-0400
TZNAME:EDT
DTSTART:20210314T070000
END:DAYLIGHT
BEGIN:STANDARD
TZOFFSETFROM:-0400
TZOFFSETTO:-0500
TZNAME:EST
DTSTART:20211107T060000
END:STANDARD
END:VTIMEZONE
BEGIN:VEVENT
DTSTART;TZID=America/New_York:20210520T173000
DTEND;TZID=America/New_York:20210520T193000
DTSTAMP:20260425T135326
CREATED:20210210T174753Z
LAST-MODIFIED:20210210T174753Z
UID:21196-1621531800-1621539000@gmoa-dev2.adsmithdev.com
SUMMARY:Teen Studio via Zoom: Magical Mystery
DESCRIPTION:
URL:http://gmoa-dev2.adsmithdev.com/event/teen-studio-via-zoom-magical-mystery/
CATEGORIES:Classes/Workshops,Family Events
ATTACH;FMTTYPE=image/jpeg:http://gmoa-dev2.adsmithdev.com/wp-content/uploads/2021/02/05-20-2021_teen-studio_Shahn_ContemporarySculpture.jpg
END:VEVENT
END:VCALENDAR