BEGIN:VCALENDAR
VERSION:2.0
PRODID:-//Georgia Museum of Art at the University of Georgia - ECPv5.4.0.1//NONSGML v1.0//EN
CALSCALE:GREGORIAN
METHOD:PUBLISH
X-WR-CALNAME:Georgia Museum of Art at the University of Georgia
X-ORIGINAL-URL:http://gmoa-dev2.adsmithdev.com
X-WR-CALDESC:Events for Georgia Museum of Art at the University of Georgia
BEGIN:VTIMEZONE
TZID:America/New_York
BEGIN:DAYLIGHT
TZOFFSETFROM:-0500
TZOFFSETTO:-0400
TZNAME:EDT
DTSTART:20210314T070000
END:DAYLIGHT
BEGIN:STANDARD
TZOFFSETFROM:-0400
TZOFFSETTO:-0500
TZNAME:EST
DTSTART:20211107T060000
END:STANDARD
END:VTIMEZONE
BEGIN:VEVENT
DTSTART;TZID=America/New_York:20211216T180000
DTEND;TZID=America/New_York:20211216T210000
DTSTAMP:20260425T091239
CREATED:20201208T194409Z
LAST-MODIFIED:20201208T194409Z
UID:16707-1639677600-1639688400@gmoa-dev2.adsmithdev.com
SUMMARY:Third Thursday
DESCRIPTION:
URL:http://gmoa-dev2.adsmithdev.com/event/third-thursday-24-2-2-2-2-2-2-2-2-2-2-2-2/
CATEGORIES:Special Events
ATTACH;FMTTYPE=image/jpeg:http://gmoa-dev2.adsmithdev.com/wp-content/uploads/2020/01/3Thurs_logo_1024px_events.jpg
END:VEVENT
END:VCALENDAR